BEGIN:VCALENDAR
VERSION:2.0
PRODID:Events Booking
BEGIN:VEVENT
UID:69ea563df1961
SUMMARY:Atelier Respiration
DESCRIPTION:Atelier découverte et bienfaits de la respiration : Et si une 
 des solutions se trouvait à l'intérieur de nous? Elle est gratuite\, ill
 imitée et disponible à chaque instant !
LOCATION:3BIS\, Route des Pistes\, Les Hôpitaux-Neufs\, 25370 Bourgogne-Fr
 anche-Comté
DTSTART:20260425T073000Z
DTEND:20260425T093000Z
DTSTAMP:20260408T140228Z
ORGANIZER:MAILTO:Comité d'animation des Hôpitaux-Neufs
GEO:46.777805;6.372558
X-APPLE-STRUCTURED-LOCATION;VALUE=URI;X-ADDRESS=3BIS\, Route des Pistes\, L
 es Hôpitaux-Neufs\, 25370 Bourgogne-Franche-Comté;X-APPLE-RADIUS=72;X-TI
 TLE=Salle des pompes (1er étage):46.777805;6.372558
END:VEVENT
BEGIN:VEVENT
UID:69ea563df1a1c
SUMMARY:Atelier Yoga Prénatal
DESCRIPTION:Yoga Prénatal: le corps et le souffle comme ressources pour tr
 averser l'intensité de l'accouchement.
  
LOCATION:3BIS\, Route des Pistes\, Les Hôpitaux-Neufs\, 25370 Bourgogne-Fr
 anche-Comté
DTSTART:20260426T070000Z
DTEND:20260426T100000Z
DTSTAMP:20260205T121758Z
ORGANIZER:MAILTO:Comité d'animation des Hôpitaux-Neufs
GEO:46.777805;6.372558
X-APPLE-STRUCTURED-LOCATION;VALUE=URI;X-ADDRESS=3BIS\, Route des Pistes\, L
 es Hôpitaux-Neufs\, 25370 Bourgogne-Franche-Comté;X-APPLE-RADIUS=72;X-TI
 TLE=Salle des pompes (1er étage):46.777805;6.372558
END:VEVENT
BEGIN:VEVENT
UID:69ea563df1a65
SUMMARY:soin énergétique 
DESCRIPTION:Je vous accompagnerai pour canaliser l'énergie des guides de g
 uérison à travers vos mains
LOCATION:3BIS\, Route des Pistes\, Les Hôpitaux-Neufs\, 25370 Bourgogne-Fr
 anche-Comté
DTSTART:20260426T073000Z
DTEND:20260426T150000Z
DTSTAMP:20251210T215858Z
ORGANIZER:MAILTO:Comité d'animation des Hôpitaux-Neufs
GEO:46.777801;6.372548
X-APPLE-STRUCTURED-LOCATION;VALUE=URI;X-ADDRESS=3BIS\, Route des Pistes\, L
 es Hôpitaux-Neufs\, 25370 Bourgogne-Franche-Comté;X-APPLE-RADIUS=72;X-TI
 TLE=Salle des pompes (Rez-de-chaussée):46.777801;6.372548
END:VEVENT
BEGIN:VEVENT
UID:69ea563df1aa0
SUMMARY:Séance d'hypnose collective
DESCRIPTION:Séance d'hypnose collective proposé par une note de SAJECE 
 
  
LOCATION:Mairie\, Place de la Mairie\, Les Hôpitaux-Neufs\, 25370 Bourgogn
 e-Franche-Comté
DTSTART:20260502T090000Z
DTEND:20260502T100000Z
DTSTAMP:20260415T135932Z
ORGANIZER:MAILTO:Comité d'animation des Hôpitaux-Neufs
GEO:46.776817;6.373685
X-APPLE-STRUCTURED-LOCATION;VALUE=URI;X-ADDRESS=Mairie\, Place de la Mairie
 \, Les Hôpitaux-Neufs\, 25370 Bourgogne-Franche-Comté;X-APPLE-RADIUS=72;
 X-TITLE=Salle tranchand:46.776817;6.373685
END:VEVENT
BEGIN:VEVENT
UID:69ea563df1b05
SUMMARY:Initiation à la danse tahitienne 
DESCRIPTION:Un moment entre femmes de 7 à 77 ans dans la joie et le mouvem
 ent.
LOCATION:Mairie\, Place de la Mairie\, Les Hôpitaux-Neufs\, 25370 Bourgogn
 e-Franche-Comté
DTSTART:20260504T170000Z
DTEND:20260503T220000Z
DTSTAMP:20260408T121522Z
ORGANIZER:MAILTO:Comité d'animation des Hôpitaux-Neufs
GEO:46.776817;6.373685
X-APPLE-STRUCTURED-LOCATION;VALUE=URI;X-ADDRESS=Mairie\, Place de la Mairie
 \, Les Hôpitaux-Neufs\, 25370 Bourgogne-Franche-Comté;X-APPLE-RADIUS=72;
 X-TITLE=Salle tranchand:46.776817;6.373685
END:VEVENT
BEGIN:VEVENT
UID:69ea563df1b40
SUMMARY:Séance d'hypnose collective
DESCRIPTION:Séance proposée par une note de SAJECE
  
LOCATION:Mairie\, Place de la Mairie\, Les Hôpitaux-Neufs\, 25370 Bourgogn
 e-Franche-Comté
DTSTART:20260512T160000Z
DTEND:20260512T170000Z
DTSTAMP:20260415T140233Z
ORGANIZER:MAILTO:Comité d'animation des Hôpitaux-Neufs
GEO:46.776817;6.373685
X-APPLE-STRUCTURED-LOCATION;VALUE=URI;X-ADDRESS=Mairie\, Place de la Mairie
 \, Les Hôpitaux-Neufs\, 25370 Bourgogne-Franche-Comté;X-APPLE-RADIUS=72;
 X-TITLE=Salle tranchand:46.776817;6.373685
END:VEVENT
BEGIN:VEVENT
UID:69ea563df1b6f
SUMMARY:Atelier aromathérapie
DESCRIPTION:Un nouvel atelier d'aroma par Valérie qui vous propose les hui
 les essentielles essentielles à mettre dans votre valise quand vous parte
 z. 
  
LOCATION:À droite dans le bâtiment de la mairie\, Place de la Mairie\, Le
 s Hôpitaux-Neufs\, 25370 Bourgogne-Franche-Comté
DTSTART:20260519T170000Z
DTEND:20260519T183000Z
DTSTAMP:20260401T072238Z
ORGANIZER:MAILTO:Comité d'animation des Hôpitaux-Neufs
GEO:46.776854;6.373636
X-APPLE-STRUCTURED-LOCATION;VALUE=URI;X-ADDRESS=À droite dans le bâtiment
  de la mairie\, Place de la Mairie\, Les Hôpitaux-Neufs\, 25370 Bourgogne
 -Franche-Comté;X-APPLE-RADIUS=72;X-TITLE=Le Vert Clair:46.776854;6.373636
END:VEVENT
BEGIN:VEVENT
UID:69ea563df1b9e
SUMMARY:Tirage d'oracle
DESCRIPTION:Rejoignez-moi pour un atelier unique dédié à l'art du tirage
  d'Oracle. Que vous soyez débutant ou déjà familier avec les cartes cet
 te atelier vous offrira un espace bienveillant pour explorer découvrir et
  recevoir des messages inspirants
  
  
LOCATION:3BIS\, Route des Pistes\, Les Hôpitaux-Neufs\, 25370 Bourgogne-Fr
 anche-Comté
DTSTART:20260607T073000Z
DTEND:20260607T150000Z
DTSTAMP:20251210T221628Z
ORGANIZER:MAILTO:Comité d'animation des Hôpitaux-Neufs
GEO:46.777801;6.372548
X-APPLE-STRUCTURED-LOCATION;VALUE=URI;X-ADDRESS=3BIS\, Route des Pistes\, L
 es Hôpitaux-Neufs\, 25370 Bourgogne-Franche-Comté;X-APPLE-RADIUS=72;X-TI
 TLE=Salle des pompes (Rez-de-chaussée):46.777801;6.372548
END:VEVENT
BEGIN:VEVENT
UID:69ea563df1be4
SUMMARY:Atelier pendule
DESCRIPTION:Atelier découverte du pendule : apprenez à utiliser cet outil
  pour répondre à vos questions et explorer votre intuition. 
LOCATION:3BIS\, Route des Pistes\, Les Hôpitaux-Neufs\, 25370 Bourgogne-Fr
 anche-Comté
DTSTART:20260614T073000Z
DTEND:20260614T150000Z
DTSTAMP:20251211T073944Z
ORGANIZER:MAILTO:Comité d'animation des Hôpitaux-Neufs
GEO:46.777801;6.372548
X-APPLE-STRUCTURED-LOCATION;VALUE=URI;X-ADDRESS=3BIS\, Route des Pistes\, L
 es Hôpitaux-Neufs\, 25370 Bourgogne-Franche-Comté;X-APPLE-RADIUS=72;X-TI
 TLE=Salle des pompes (Rez-de-chaussée):46.777801;6.372548
END:VEVENT
BEGIN:VEVENT
UID:69ea563df1c12
SUMMARY:Cérémonie d'une construction d'une Roue de Médecine
DESCRIPTION:La roue de médecine: une technologie spirituelle des peuples p
 remiers. Animé par Claire Jozan-Meisel\, apprenez à créer votre roue de
  médecine. 
DTSTART:20260620T073000Z
DTEND:20260621T160000Z
DTSTAMP:20260403T081136Z
ORGANIZER:MAILTO:Comité d'animation des Hôpitaux-Neufs
END:VEVENT
BEGIN:VEVENT
UID:69ea563df1c3f
SUMMARY:Forum des activités  
DESCRIPTION:Musique\, anglais\, sport\, bien-être\, théâtre\, parentalit
 é\, associations\,... venez rencontrer les représentants de toutes les a
 ctivités proposées aux Hôpitaux-Neufs\, pour adultes et enfants. 
LOCATION:À droite dans le bâtiment de la mairie\, Place de la Mairie\, Le
 s Hôpitaux-Neufs\, 25370 Bourgogne-Franche-Comté
DTSTART:20260626T140000Z
DTEND:20250905T170000Z
DTSTAMP:20260324T150312Z
ORGANIZER:MAILTO:Comité d'animation des Hôpitaux-Neufs
GEO:46.776854;6.373636
X-APPLE-STRUCTURED-LOCATION;VALUE=URI;X-ADDRESS=À droite dans le bâtiment
  de la mairie\, Place de la Mairie\, Les Hôpitaux-Neufs\, 25370 Bourgogne
 -Franche-Comté;X-APPLE-RADIUS=72;X-TITLE=Le Vert Clair:46.776854;6.373636
END:VEVENT
BEGIN:VEVENT
UID:69ea563df1c6d
SUMMARY:Forum des activités  
DESCRIPTION:Musique\, anglais\, sport\, bien-être\, théâtre\, parentalit
 é\, associations\,... venez rencontrer les représentants de toutes les a
 ctivités proposées aux Hôpitaux-Neufs\, pour adultes et enfants. 
LOCATION:À droite dans le bâtiment de la mairie\, Place de la Mairie\, Le
 s Hôpitaux-Neufs\, 25370 Bourgogne-Franche-Comté
DTSTART:20260904T140000Z
DTEND:20260904T170000Z
DTSTAMP:20260324T150312Z
ORGANIZER:MAILTO:Comité d'animation des Hôpitaux-Neufs
GEO:46.776854;6.373636
X-APPLE-STRUCTURED-LOCATION;VALUE=URI;X-ADDRESS=À droite dans le bâtiment
  de la mairie\, Place de la Mairie\, Les Hôpitaux-Neufs\, 25370 Bourgogne
 -Franche-Comté;X-APPLE-RADIUS=72;X-TITLE=Le Vert Clair:46.776854;6.373636
END:VEVENT
END:VCALENDAR